BEGIN:VCALENDAR
VERSION:2.0
PRODID:-//Lancaster Cleft Palate Clinic - ECPv6.15.16.1//NONSGML v1.0//EN
CALSCALE:GREGORIAN
METHOD:PUBLISH
X-WR-CALNAME:Lancaster Cleft Palate Clinic
X-ORIGINAL-URL:https://www.cleftclinic.org
X-WR-CALDESC:Events for Lancaster Cleft Palate Clinic
REFRESH-INTERVAL;VALUE=DURATION:PT1H
X-Robots-Tag:noindex
X-PUBLISHED-TTL:PT1H
BEGIN:VTIMEZONE
TZID:America/New_York
BEGIN:DAYLIGHT
TZOFFSETFROM:-0500
TZOFFSETTO:-0400
TZNAME:EDT
DTSTART:20250309T070000
END:DAYLIGHT
BEGIN:STANDARD
TZOFFSETFROM:-0400
TZOFFSETTO:-0500
TZNAME:EST
DTSTART:20251102T060000
END:STANDARD
BEGIN:DAYLIGHT
TZOFFSETFROM:-0500
TZOFFSETTO:-0400
TZNAME:EDT
DTSTART:20260308T070000
END:DAYLIGHT
BEGIN:STANDARD
TZOFFSETFROM:-0400
TZOFFSETTO:-0500
TZNAME:EST
DTSTART:20261101T060000
END:STANDARD
BEGIN:DAYLIGHT
TZOFFSETFROM:-0500
TZOFFSETTO:-0400
TZNAME:EDT
DTSTART:20270314T070000
END:DAYLIGHT
BEGIN:STANDARD
TZOFFSETFROM:-0400
TZOFFSETTO:-0500
TZNAME:EST
DTSTART:20271107T060000
END:STANDARD
END:VTIMEZONE
BEGIN:VEVENT
DTSTART;TZID=America/New_York:20260502T100000
DTEND;TZID=America/New_York:20260502T160000
DTSTAMP:20260424T101604
CREATED:20260109T202825Z
LAST-MODIFIED:20260109T202905Z
UID:13818-1777716000-1777737600@www.cleftclinic.org
SUMMARY:Lititz Pretzel Fest
DESCRIPTION:On May 2\, downtown Lititz will once again be the place to enjoy multiple savory and sweet pretzel treats. The Kiwanis Club of Lititz Area hosts this annual event and proceeds benefit local charities that support children\, like the Clinic! Join us to eat our way through Lititz and support patient care. \nTickets go on sale February 13!
URL:https://www.cleftclinic.org/events/lititz-pretzel-fest/
ATTACH;FMTTYPE=image/jpeg:https://www.cleftclinic.org/wp-content/uploads/2026/01/Pretzel-Fest-Logo.jpg
END:VEVENT
END:VCALENDAR